BEGIN:VCALENDAR
VERSION:2.0
PRODID:-//Town of Plymouth, Vermont - ECPv6.15.20//NONSGML v1.0//EN
CALSCALE:GREGORIAN
METHOD:PUBLISH
X-WR-CALNAME:Town of Plymouth, Vermont
X-ORIGINAL-URL:https://www.plymouthvt.org
X-WR-CALDESC:Events for Town of Plymouth, Vermont
REFRESH-INTERVAL;VALUE=DURATION:PT1H
X-Robots-Tag:noindex
X-PUBLISHED-TTL:PT1H
BEGIN:VTIMEZONE
TZID:UTC
BEGIN:STANDARD
TZOFFSETFROM:+0000
TZOFFSETTO:+0000
TZNAME:UTC
DTSTART:20240101T000000
END:STANDARD
END:VTIMEZONE
BEGIN:VEVENT
DTSTART;TZID=UTC:20251002T190000
DTEND;TZID=UTC:20251002T203000
DTSTAMP:20260424T144758
CREATED:20251002T211819Z
LAST-MODIFIED:20251002T211833Z
UID:5893-1759431600-1759437000@www.plymouthvt.org
SUMMARY:Cemetery Commissioners Meeting
DESCRIPTION:
URL:https://www.plymouthvt.org/calendar/cemetery-commissioners-meeting/
END:VEVENT
END:VCALENDAR