BEGIN:VCALENDAR
VERSION:2.0
PRODID:-//Town of Plymouth, Vermont - ECPv6.15.20//NONSGML v1.0//EN
CALSCALE:GREGORIAN
METHOD:PUBLISH
X-WR-CALNAME:Town of Plymouth, Vermont
X-ORIGINAL-URL:https://www.plymouthvt.org
X-WR-CALDESC:Events for Town of Plymouth, Vermont
REFRESH-INTERVAL;VALUE=DURATION:PT1H
X-Robots-Tag:noindex
X-PUBLISHED-TTL:PT1H
BEGIN:VTIMEZONE
TZID:UTC
BEGIN:STANDARD
TZOFFSETFROM:+0000
TZOFFSETTO:+0000
TZNAME:UTC
DTSTART:20240101T000000
END:STANDARD
END:VTIMEZONE
BEGIN:VEVENT
DTSTART;VALUE=DATE:20260216
DTEND;VALUE=DATE:20260218
DTSTAMP:20260424T001015
CREATED:20260122T125346Z
LAST-MODIFIED:20260122T125346Z
UID:6724-1771200000-1771372799@www.plymouthvt.org
SUMMARY:Town Offices Closed
DESCRIPTION:Presidents Day
URL:https://www.plymouthvt.org/calendar/town-offices-closed-7/
END:VEVENT
BEGIN:VEVENT
DTSTART;VALUE=DATE:20260206
DTEND;VALUE=DATE:20260207
DTSTAMP:20260424T001015
CREATED:20260122T125512Z
LAST-MODIFIED:20260122T125512Z
UID:6730-1770336000-1770422399@www.plymouthvt.org
SUMMARY:Town Offices Closed
DESCRIPTION:
URL:https://www.plymouthvt.org/calendar/town-offices-closed-10/
END:VEVENT
BEGIN:VEVENT
DTSTART;TZID=UTC:20260202T180000
DTEND;TZID=UTC:20260202T200000
DTSTAMP:20260424T001015
CREATED:20260129T173207Z
LAST-MODIFIED:20260129T173311Z
UID:6743-1770055200-1770062400@www.plymouthvt.org
SUMMARY:Select Board Meeting
DESCRIPTION:
URL:https://www.plymouthvt.org/calendar/select-board-meeting-5/
END:VEVENT
BEGIN:VEVENT
DTSTART;TZID=UTC:20260202T080000
DTEND;TZID=UTC:20260202T170000
DTSTAMP:20260424T001015
CREATED:20251112T174526Z
LAST-MODIFIED:20251112T174526Z
UID:6540-1770019200-1770051600@www.plymouthvt.org
SUMMARY:Property Taxes Due - 2nd Installment
DESCRIPTION:
URL:https://www.plymouthvt.org/calendar/property-taxes-due-2nd-installment/
END:VEVENT
BEGIN:VEVENT
DTSTART;VALUE=DATE:20260130
DTEND;VALUE=DATE:20260131
DTSTAMP:20260424T001015
CREATED:20260122T125443Z
LAST-MODIFIED:20260122T125443Z
UID:6728-1769731200-1769817599@www.plymouthvt.org
SUMMARY:Town Offices Closed
DESCRIPTION:
URL:https://www.plymouthvt.org/calendar/town-offices-closed-9/
END:VEVENT
BEGIN:VEVENT
DTSTART;TZID=UTC:20260126T180000
DTEND;TZID=UTC:20260126T210000
DTSTAMP:20260424T001015
CREATED:20251223T200724Z
LAST-MODIFIED:20251223T200724Z
UID:6672-1769450400-1769461200@www.plymouthvt.org
SUMMARY:Select Board Meeting
DESCRIPTION:
URL:https://www.plymouthvt.org/calendar/select-board-meeting-4/
END:VEVENT
BEGIN:VEVENT
DTSTART;TZID=UTC:20260126T173000
DTEND;TZID=UTC:20260126T180000
DTSTAMP:20260424T001015
CREATED:20260122T125041Z
LAST-MODIFIED:20260122T125047Z
UID:6722-1769448600-1769450400@www.plymouthvt.org
SUMMARY:Board of Civil Authority
DESCRIPTION:BCA Meeting – January 26\, 2026
URL:https://www.plymouthvt.org/calendar/board-of-civil-authority/
END:VEVENT
BEGIN:VEVENT
DTSTART;VALUE=DATE:20260123
DTEND;VALUE=DATE:20260124
DTSTAMP:20260424T001015
CREATED:20260122T125417Z
LAST-MODIFIED:20260122T125417Z
UID:6726-1769126400-1769212799@www.plymouthvt.org
SUMMARY:Town  Offices Closed
DESCRIPTION:
URL:https://www.plymouthvt.org/calendar/town-offices-closed-8/
END:VEVENT
BEGIN:VEVENT
DTSTART;TZID=UTC:20260120T084500
DTEND;TZID=UTC:20260120T093000
DTSTAMP:20260424T001015
CREATED:20260115T213708Z
LAST-MODIFIED:20260115T213708Z
UID:6710-1768898700-1768901400@www.plymouthvt.org
SUMMARY:Select Board Special Meeting
DESCRIPTION:
URL:https://www.plymouthvt.org/calendar/select-board-special-meeting/
END:VEVENT
BEGIN:VEVENT
DTSTART;TZID=UTC:20260114T163000
DTEND;TZID=UTC:20260114T183000
DTSTAMP:20260424T001015
CREATED:20260112T211205Z
LAST-MODIFIED:20260112T211215Z
UID:6706-1768408200-1768415400@www.plymouthvt.org
SUMMARY:Select Board Meeting - Special Meeting
DESCRIPTION:January 14\, 2026
URL:https://www.plymouthvt.org/calendar/select-board-meeting-special-meeting/
END:VEVENT
BEGIN:VEVENT
DTSTART;TZID=UTC:20260106T180000
DTEND;TZID=UTC:20260106T200000
DTSTAMP:20260424T001015
CREATED:20251209T164534Z
LAST-MODIFIED:20251209T164534Z
UID:6638-1767722400-1767729600@www.plymouthvt.org
SUMMARY:P&Z Board of Adjustment Meeting
DESCRIPTION:AGENDA FOR JANUARY 6 2026 MEETING
URL:https://www.plymouthvt.org/calendar/pz-board-of-adjustment-meeting/
END:VEVENT
BEGIN:VEVENT
DTSTART;TZID=UTC:20251228T100000
DTEND;TZID=UTC:20251228T120000
DTSTAMP:20260424T001015
CREATED:20251112T185718Z
LAST-MODIFIED:20251112T185751Z
UID:6545-1766916000-1766923200@www.plymouthvt.org
SUMMARY:Salt Ash Owners Association - Annual Meeting - Municipal Building
DESCRIPTION:
URL:https://www.plymouthvt.org/calendar/salt-ash-owners-association-annual-meeting-municipal-building/
END:VEVENT
BEGIN:VEVENT
DTSTART;TZID=UTC:20251226T080000
DTEND;TZID=UTC:20251226T170000
DTSTAMP:20260424T001015
CREATED:20251120T195107Z
LAST-MODIFIED:20251120T195107Z
UID:6590-1766736000-1766768400@www.plymouthvt.org
SUMMARY:Town Offices Closed
DESCRIPTION:
URL:https://www.plymouthvt.org/calendar/town-offices-closed-6/
END:VEVENT
BEGIN:VEVENT
DTSTART;TZID=UTC:20251225T080000
DTEND;TZID=UTC:20251225T170000
DTSTAMP:20260424T001015
CREATED:20251120T195259Z
LAST-MODIFIED:20251120T195331Z
UID:6594-1766649600-1766682000@www.plymouthvt.org
SUMMARY:Christmas - All Town Offices Closed
DESCRIPTION:
URL:https://www.plymouthvt.org/calendar/christmas-all-town-offices-closed/
END:VEVENT
BEGIN:VEVENT
DTSTART;TZID=UTC:20251224T120000
DTEND;TZID=UTC:20251224T170000
DTSTAMP:20260424T001015
CREATED:20251120T195214Z
LAST-MODIFIED:20251120T195214Z
UID:6592-1766577600-1766595600@www.plymouthvt.org
SUMMARY:Christmas Eve - Town Offices Closed at 12:00 PM
DESCRIPTION:
URL:https://www.plymouthvt.org/calendar/christmas-eve-town-offices-closed-at-1200-pm/
END:VEVENT
BEGIN:VEVENT
DTSTART;TZID=UTC:20251219T080000
DTEND;TZID=UTC:20251219T170000
DTSTAMP:20260424T001015
CREATED:20251120T195046Z
LAST-MODIFIED:20251120T195046Z
UID:6588-1766131200-1766163600@www.plymouthvt.org
SUMMARY:Town Offices Closed
DESCRIPTION:
URL:https://www.plymouthvt.org/calendar/town-offices-closed-5/
END:VEVENT
BEGIN:VEVENT
DTSTART;TZID=UTC:20251215T180000
DTEND;TZID=UTC:20251215T210000
DTSTAMP:20260424T001015
CREATED:20251120T135936Z
LAST-MODIFIED:20251120T140040Z
UID:6570-1765821600-1765832400@www.plymouthvt.org
SUMMARY:Select Board Meeting
DESCRIPTION:
URL:https://www.plymouthvt.org/calendar/select-board-meeting-3/
END:VEVENT
BEGIN:VEVENT
DTSTART;TZID=UTC:20251214T180000
DTEND;TZID=UTC:20251214T210000
DTSTAMP:20260424T001015
CREATED:20251120T194127Z
LAST-MODIFIED:20251124T205255Z
UID:6576-1765735200-1765746000@www.plymouthvt.org
SUMMARY:Plymouth Emergency Services - Christmas Party
DESCRIPTION:Plymouth Town Office
URL:https://www.plymouthvt.org/calendar/plymouth-emergency-services-christmas-party/
END:VEVENT
BEGIN:VEVENT
DTSTART;TZID=UTC:20251213T163000
DTEND;TZID=UTC:20251213T183000
DTSTAMP:20260424T001015
CREATED:20251028T171801Z
LAST-MODIFIED:20251103T202558Z
UID:6503-1765643400-1765650600@www.plymouthvt.org
SUMMARY:Kid's Holiday Party - December 13\, 2025
DESCRIPTION:
URL:https://www.plymouthvt.org/calendar/kids-holiday-party-december-13-2025/
END:VEVENT
BEGIN:VEVENT
DTSTART;TZID=UTC:20251212T080000
DTEND;TZID=UTC:20251212T170000
DTSTAMP:20260424T001015
CREATED:20251120T195028Z
LAST-MODIFIED:20251120T195028Z
UID:6586-1765526400-1765558800@www.plymouthvt.org
SUMMARY:Town Offices Closed
DESCRIPTION:
URL:https://www.plymouthvt.org/calendar/town-offices-closed-4/
END:VEVENT
BEGIN:VEVENT
DTSTART;TZID=UTC:20251208T180000
DTEND;TZID=UTC:20251208T193000
DTSTAMP:20260424T001015
CREATED:20251120T193743Z
LAST-MODIFIED:20251124T204433Z
UID:6572-1765216800-1765222200@www.plymouthvt.org
SUMMARY:WUHSMS - Rebuild Community Info Session
DESCRIPTION:Plymouth Town Office
URL:https://www.plymouthvt.org/calendar/wuhsms-rebuild-community-info-session/
END:VEVENT
BEGIN:VEVENT
DTSTART;TZID=UTC:20251205T080000
DTEND;TZID=UTC:20251205T170000
DTSTAMP:20260424T001015
CREATED:20251120T195003Z
LAST-MODIFIED:20251120T195003Z
UID:6584-1764921600-1764954000@www.plymouthvt.org
SUMMARY:Town Offices Closed
DESCRIPTION:
URL:https://www.plymouthvt.org/calendar/town-offices-closed-3/
END:VEVENT
BEGIN:VEVENT
DTSTART;TZID=UTC:20251202T190000
DTEND;TZID=UTC:20251202T210000
DTSTAMP:20260424T001015
CREATED:20251112T174332Z
LAST-MODIFIED:20251112T174346Z
UID:6537-1764702000-1764709200@www.plymouthvt.org
SUMMARY:Planning Commission & Zoning Board of Adjustment Hearing
DESCRIPTION:
URL:https://www.plymouthvt.org/calendar/planning-commission-zoning-board-of-adjustment-hearing/
END:VEVENT
BEGIN:VEVENT
DTSTART;TZID=UTC:20251128T080000
DTEND;TZID=UTC:20251128T170000
DTSTAMP:20260424T001015
CREATED:20251120T194944Z
LAST-MODIFIED:20251120T194944Z
UID:6582-1764316800-1764349200@www.plymouthvt.org
SUMMARY:Town Offices Closed
DESCRIPTION:
URL:https://www.plymouthvt.org/calendar/town-offices-closed-2/
END:VEVENT
BEGIN:VEVENT
DTSTART;TZID=UTC:20251127T080000
DTEND;TZID=UTC:20251127T170000
DTSTAMP:20260424T001015
CREATED:20251120T194851Z
LAST-MODIFIED:20251120T194851Z
UID:6578-1764230400-1764262800@www.plymouthvt.org
SUMMARY:Thanksgiving - Town Offices Closed
DESCRIPTION:
URL:https://www.plymouthvt.org/calendar/thanksgiving-town-offices-closed/
END:VEVENT
BEGIN:VEVENT
DTSTART;TZID=UTC:20251122T170000
DTEND;TZID=UTC:20251122T190000
DTSTAMP:20260424T001015
CREATED:20251002T210757Z
LAST-MODIFIED:20251028T171959Z
UID:5883-1763830800-1763838000@www.plymouthvt.org
SUMMARY:Turkey Dinner (Free)
DESCRIPTION:
URL:https://www.plymouthvt.org/calendar/turkey-dinner-free/
END:VEVENT
BEGIN:VEVENT
DTSTART;TZID=UTC:20251121T080000
DTEND;TZID=UTC:20251121T170000
DTSTAMP:20260424T001015
CREATED:20251120T194922Z
LAST-MODIFIED:20251120T194922Z
UID:6580-1763712000-1763744400@www.plymouthvt.org
SUMMARY:Town Offices Closed
DESCRIPTION:
URL:https://www.plymouthvt.org/calendar/town-offices-closed/
END:VEVENT
BEGIN:VEVENT
DTSTART;TZID=UTC:20251117T180000
DTEND;TZID=UTC:20251117T200000
DTSTAMP:20260424T001015
CREATED:20251112T174125Z
LAST-MODIFIED:20251112T174125Z
UID:6535-1763402400-1763409600@www.plymouthvt.org
SUMMARY:Select Board Meeting
DESCRIPTION:
URL:https://www.plymouthvt.org/calendar/select-board-meeting-2/
END:VEVENT
BEGIN:VEVENT
DTSTART;TZID=UTC:20251025T160000
DTEND;TZID=UTC:20251025T180000
DTSTAMP:20260424T001015
CREATED:20251002T210440Z
LAST-MODIFIED:20251002T210440Z
UID:5881-1761408000-1761415200@www.plymouthvt.org
SUMMARY:Trunk-or-Treat
DESCRIPTION:
URL:https://www.plymouthvt.org/calendar/trunk-or-treat/
END:VEVENT
BEGIN:VEVENT
DTSTART;TZID=UTC:20251018T110000
DTEND;TZID=UTC:20251018T140000
DTSTAMP:20260424T001015
CREATED:20251002T210335Z
LAST-MODIFIED:20251007T021642Z
UID:5879-1760785200-1760796000@www.plymouthvt.org
SUMMARY:Plymouth Volunteer Fire Department - Open House
DESCRIPTION:
URL:https://www.plymouthvt.org/calendar/plymouth-volunteer-fire-department-open-house/
END:VEVENT
END:VCALENDAR