BEGIN:VCALENDAR
VERSION:2.0
PRODID:-//Town of Plymouth, Vermont - ECPv6.15.20//NONSGML v1.0//EN
CALSCALE:GREGORIAN
METHOD:PUBLISH
X-WR-CALNAME:Town of Plymouth, Vermont
X-ORIGINAL-URL:https://www.plymouthvt.org
X-WR-CALDESC:Events for Town of Plymouth, Vermont
REFRESH-INTERVAL;VALUE=DURATION:PT1H
X-Robots-Tag:noindex
X-PUBLISHED-TTL:PT1H
BEGIN:VTIMEZONE
TZID:UTC
BEGIN:STANDARD
TZOFFSETFROM:+0000
TZOFFSETTO:+0000
TZNAME:UTC
DTSTART:20250101T000000
END:STANDARD
END:VTIMEZONE
BEGIN:VEVENT
DTSTART;TZID=UTC:20260420T180000
DTEND;TZID=UTC:20260420T200000
DTSTAMP:20260423T203116
CREATED:20260416T163517Z
LAST-MODIFIED:20260416T163727Z
UID:6992-1776708000-1776715200@www.plymouthvt.org
SUMMARY:Select Board Regular Meeting
DESCRIPTION:April 20\, 2026
URL:https://www.plymouthvt.org/calendar/april-20-2026-select-board-meeting/
END:VEVENT
END:VCALENDAR