BEGIN:VCALENDAR
VERSION:2.0
PRODID:-//Town of Plymouth, Vermont - ECPv6.15.20//NONSGML v1.0//EN
CALSCALE:GREGORIAN
METHOD:PUBLISH
X-ORIGINAL-URL:https://www.plymouthvt.org
X-WR-CALDESC:Events for Town of Plymouth, Vermont
REFRESH-INTERVAL;VALUE=DURATION:PT1H
X-Robots-Tag:noindex
X-PUBLISHED-TTL:PT1H
BEGIN:VTIMEZONE
TZID:UTC
BEGIN:STANDARD
TZOFFSETFROM:+0000
TZOFFSETTO:+0000
TZNAME:UTC
DTSTART:20250101T000000
END:STANDARD
END:VTIMEZONE
BEGIN:VEVENT
DTSTART;TZID=UTC:20260423T160000
DTEND;TZID=UTC:20260423T190000
DTSTAMP:20260423T235323
CREATED:20260416T163259Z
LAST-MODIFIED:20260416T163648Z
UID:6988-1776960000-1776970800@www.plymouthvt.org
SUMMARY:Trustees of Public Funds Regular Meeting
DESCRIPTION:
URL:https://www.plymouthvt.org/calendar/april-23-2026-trustees-of-public-funds-regular-meeting/
END:VEVENT
BEGIN:VEVENT
DTSTART;TZID=UTC:20260429T180000
DTEND;TZID=UTC:20260429T190000
DTSTAMP:20260423T235323
CREATED:20260325T173337Z
LAST-MODIFIED:20260325T173337Z
UID:6915-1777485600-1777489200@www.plymouthvt.org
SUMMARY:Total Body Fit - Workout
DESCRIPTION:
URL:https://www.plymouthvt.org/calendar/total-body-fit-workout-5/
END:VEVENT
END:VCALENDAR